BEGIN:VCALENDAR
VERSION:2.0
PRODID:-//Maize Valley - ECPv6.15.17.1//NONSGML v1.0//EN
CALSCALE:GREGORIAN
METHOD:PUBLISH
X-WR-CALNAME:Maize Valley
X-ORIGINAL-URL:https://www.maizevalley.com
X-WR-CALDESC:Events for Maize Valley
REFRESH-INTERVAL;VALUE=DURATION:PT1H
X-Robots-Tag:noindex
X-PUBLISHED-TTL:PT1H
BEGIN:VTIMEZONE
TZID:America/New_York
BEGIN:DAYLIGHT
TZOFFSETFROM:-0500
TZOFFSETTO:-0400
TZNAME:EDT
DTSTART:20200308T070000
END:DAYLIGHT
BEGIN:STANDARD
TZOFFSETFROM:-0400
TZOFFSETTO:-0500
TZNAME:EST
DTSTART:20201101T060000
END:STANDARD
BEGIN:DAYLIGHT
TZOFFSETFROM:-0500
TZOFFSETTO:-0400
TZNAME:EDT
DTSTART:20210314T070000
END:DAYLIGHT
BEGIN:STANDARD
TZOFFSETFROM:-0400
TZOFFSETTO:-0500
TZNAME:EST
DTSTART:20211107T060000
END:STANDARD
BEGIN:DAYLIGHT
TZOFFSETFROM:-0500
TZOFFSETTO:-0400
TZNAME:EDT
DTSTART:20220313T070000
END:DAYLIGHT
BEGIN:STANDARD
TZOFFSETFROM:-0400
TZOFFSETTO:-0500
TZNAME:EST
DTSTART:20221106T060000
END:STANDARD
END:VTIMEZONE
BEGIN:VEVENT
DTSTART;TZID=America/New_York:20210716T170000
DTEND;TZID=America/New_York:20210716T200000
DTSTAMP:20260423T033716
CREATED:20240301T005344Z
LAST-MODIFIED:20240301T005344Z
UID:10001013-1626454800-1626465600@www.maizevalley.com
SUMMARY:Lunch & Lavender
DESCRIPTION:The lavender field is starting to bloom!!!  We invite you to visit Maize Valley for a calming afternoon of lunch and lavender.  The lavender field will be open Monday – Saturday from 12 noon – 3 pm & 5 pm – 8 pm (weather permitting).  Admission to the field is $5 per person (including children and babies).  You can take pictures with your cell phone\, or cut bundles of lavender for $10 each.  Enjoy lunch either before or after your lavender experience.  NO PETS PLEASE. \nProfessional photographers are welcome to visit the field during our normal hours.  Each person must pay the appropriate admissions fee.  Please limit any “props” to what you can carry.  No Pets Please. \nLavender is a very fragrant and beautiful plant.  The aroma of fresh cut lavender has a calming\, soothing effect.  The blossoms can also be easily dried to enjoy in your home all year.
URL:https://www.maizevalley.com/calendar/lunch-lavender/2021-07-16/
LOCATION:Maize Valley\, 6193 Edison St. NE (St. Rt. 619)\, Hartville\, OH\, 44632\, United States
ORGANIZER;CN="Maize Valley":MAILTO:info (@) maizevalley.com
GEO:40.9538889;-81.2817416
X-APPLE-STRUCTURED-LOCATION;VALUE=URI;X-ADDRESS=Maize Valley 6193 Edison St. NE (St. Rt. 619) Hartville OH 44632 United States;X-APPLE-RADIUS=500;X-TITLE=6193 Edison St. NE (St. Rt. 619):geo:-81.2817416,40.9538889
END:VEVENT
END:VCALENDAR