BEGIN:VCALENDAR
VERSION:2.0
PRODID:-//Maize Valley - ECPv6.15.17.1//NONSGML v1.0//EN
CALSCALE:GREGORIAN
METHOD:PUBLISH
X-WR-CALNAME:Maize Valley
X-ORIGINAL-URL:https://www.maizevalley.com
X-WR-CALDESC:Events for Maize Valley
REFRESH-INTERVAL;VALUE=DURATION:PT1H
X-Robots-Tag:noindex
X-PUBLISHED-TTL:PT1H
BEGIN:VTIMEZONE
TZID:America/New_York
BEGIN:DAYLIGHT
TZOFFSETFROM:-0500
TZOFFSETTO:-0400
TZNAME:EDT
DTSTART:20230312T070000
END:DAYLIGHT
BEGIN:STANDARD
TZOFFSETFROM:-0400
TZOFFSETTO:-0500
TZNAME:EST
DTSTART:20231105T060000
END:STANDARD
BEGIN:DAYLIGHT
TZOFFSETFROM:-0500
TZOFFSETTO:-0400
TZNAME:EDT
DTSTART:20240310T070000
END:DAYLIGHT
BEGIN:STANDARD
TZOFFSETFROM:-0400
TZOFFSETTO:-0500
TZNAME:EST
DTSTART:20241103T060000
END:STANDARD
BEGIN:DAYLIGHT
TZOFFSETFROM:-0500
TZOFFSETTO:-0400
TZNAME:EDT
DTSTART:20250309T070000
END:DAYLIGHT
BEGIN:STANDARD
TZOFFSETFROM:-0400
TZOFFSETTO:-0500
TZNAME:EST
DTSTART:20251102T060000
END:STANDARD
END:VTIMEZONE
BEGIN:VEVENT
DTSTART;TZID=America/New_York:20240831T100000
DTEND;TZID=America/New_York:20240831T110000
DTSTAMP:20260426T002402
CREATED:20240812T182152Z
LAST-MODIFIED:20240812T182404Z
UID:20581-1725098400-1725102000@www.maizevalley.com
SUMMARY:Yoga & Sunflowers
DESCRIPTION:Enjoy a serene morning of yoga while you view the beauty of the sunflower field. \nYour ticket includes a 1 hour Yoga Flow with a certified instructor from Yoga Squared\, 1 you-pick bouquet of sunflowers\, 1 beverage of choice from Maize Valley Winery & Craft Brewery. Tickets are $35 each. \nThis event is limited to registered participants. Tickets can be purchased here. \nYou will need to provide your own yoga mat. Restrooms are available inside the main building at Maize Valley (there are not restrooms in the Sunflower field).
URL:https://www.maizevalley.com/calendar/yoga-sunflowers-2/
LOCATION:Maize Valley\, 6193 Edison St. NE (St. Rt. 619)\, Hartville\, OH\, 44632\, United States
ORGANIZER;CN="Maize Valley":MAILTO:info (@) maizevalley.com
GEO:40.9538889;-81.2817416
X-APPLE-STRUCTURED-LOCATION;VALUE=URI;X-ADDRESS=Maize Valley 6193 Edison St. NE (St. Rt. 619) Hartville OH 44632 United States;X-APPLE-RADIUS=500;X-TITLE=6193 Edison St. NE (St. Rt. 619):geo:-81.2817416,40.9538889
END:VEVENT
END:VCALENDAR