BEGIN:VCALENDAR
VERSION:2.0
PRODID:-//Maize Valley - ECPv6.15.17.1//NONSGML v1.0//EN
CALSCALE:GREGORIAN
METHOD:PUBLISH
X-WR-CALNAME:Maize Valley
X-ORIGINAL-URL:https://www.maizevalley.com
X-WR-CALDESC:Events for Maize Valley
REFRESH-INTERVAL;VALUE=DURATION:PT1H
X-Robots-Tag:noindex
X-PUBLISHED-TTL:PT1H
BEGIN:VTIMEZONE
TZID:America/New_York
BEGIN:DAYLIGHT
TZOFFSETFROM:-0500
TZOFFSETTO:-0400
TZNAME:EDT
DTSTART:20180311T070000
END:DAYLIGHT
BEGIN:STANDARD
TZOFFSETFROM:-0400
TZOFFSETTO:-0500
TZNAME:EST
DTSTART:20181104T060000
END:STANDARD
BEGIN:DAYLIGHT
TZOFFSETFROM:-0500
TZOFFSETTO:-0400
TZNAME:EDT
DTSTART:20190310T070000
END:DAYLIGHT
BEGIN:STANDARD
TZOFFSETFROM:-0400
TZOFFSETTO:-0500
TZNAME:EST
DTSTART:20191103T060000
END:STANDARD
BEGIN:DAYLIGHT
TZOFFSETFROM:-0500
TZOFFSETTO:-0400
TZNAME:EDT
DTSTART:20200308T070000
END:DAYLIGHT
BEGIN:STANDARD
TZOFFSETFROM:-0400
TZOFFSETTO:-0500
TZNAME:EST
DTSTART:20201101T060000
END:STANDARD
END:VTIMEZONE
BEGIN:VEVENT
DTSTART;TZID=America/New_York:20191017T183000
DTEND;TZID=America/New_York:20191017T210000
DTSTAMP:20260425T220146
CREATED:20180110T155123Z
LAST-MODIFIED:20190710T185907Z
UID:10000857-1571337000-1571346000@www.maizevalley.com
SUMMARY:Craft Dinner
DESCRIPTION:[et_pb_section bb_built=”1″][et_pb_row][et_pb_column type=”2_3″][et_pb_text _builder_version=”3.21.1″ z_index_tablet=”500″] \n2019 Craft Dinner series – The Secret (featured) Ingredient.   For the 2019 Craft Dinner Series Maize Valley will guide you in a flavor adventure where you will experience dinners based around a “secret” ingredient – similar to a popular cooking show.  Each dinner will feature one ingredient that will appear in all courses of that meal.  The featured ingredients will sometimes be well known\, seasonal items\, at other times the ingredient may not be so well known.  It will be our kitchen’s challenge to use that ingredient in a unique way in each dish that is prepared for that dinner. \nDates for the 2019 Vintner’s Dinner Series are as follows: \n\nJanuary 17\, 2019 – Oranges\nFebruary 21\, 2019 – Chocolate\nMarch 21\, 2019 – Legumes\nApril 18\, 2019 – Eggs\nMay 16\, 2019 – Apricots\nJune 20\, 2019 – Cinnamon\nJuly 18\, 2019\nAugust 15\, 2019\nSeptember 19\, 2019\nOctober 17\, 2019\nNovember 21\, 2019\nDecember 19\, 2019\n\nJoin us on the third Thursday of every month for a delicious meal paired with your choice of either Maize Valley Wines or Maize Valley Beers. \nCraft Dinners are a great way to visit old friends and meet new ones as you explore the tastes of Maize Valley. Click on the month of your choice (to the right) or contact us to reserve your spot at the next Craft Dinner before it sells out! \n[/et_pb_text][/et_pb_column][et_pb_column type=”1_3″][et_pb_button _builder_version=”3.21.1″ button_text=”Craft Dinner Tickets” button_url=”https://maizevalley.ticketspice.com/craft-dinner” custom_button=”on” button_text_color=”#ffffff” button_bg_color=”#e02b20″ button_border_color=”#e02b20″ z_index_tablet=”500″ /][/et_pb_column][/et_pb_row][/et_pb_section]
URL:https://www.maizevalley.com/calendar/vintners-dinner-january-2018-2018-06-21-2018-11-15-2018-12-20/2019-10-17/
LOCATION:Maize Valley\, 6193 Edison St. NE (St. Rt. 619)\, Hartville\, OH\, 44632\, United States
CATEGORIES:Activity,Vintner's Dinners
ORGANIZER;CN="Maize Valley":MAILTO:info (@) maizevalley.com
GEO:40.9538889;-81.2817416
X-APPLE-STRUCTURED-LOCATION;VALUE=URI;X-ADDRESS=Maize Valley 6193 Edison St. NE (St. Rt. 619) Hartville OH 44632 United States;X-APPLE-RADIUS=500;X-TITLE=6193 Edison St. NE (St. Rt. 619):geo:-81.2817416,40.9538889
END:VEVENT
END:VCALENDAR