BEGIN:VCALENDAR
VERSION:2.0
PRODID:-//Maize Valley - ECPv6.15.17.1//NONSGML v1.0//EN
CALSCALE:GREGORIAN
METHOD:PUBLISH
X-WR-CALNAME:Maize Valley
X-ORIGINAL-URL:https://www.maizevalley.com
X-WR-CALDESC:Events for Maize Valley
REFRESH-INTERVAL;VALUE=DURATION:PT1H
X-Robots-Tag:noindex
X-PUBLISHED-TTL:PT1H
BEGIN:VTIMEZONE
TZID:America/New_York
BEGIN:DAYLIGHT
TZOFFSETFROM:-0500
TZOFFSETTO:-0400
TZNAME:EDT
DTSTART:20230312T070000
END:DAYLIGHT
BEGIN:STANDARD
TZOFFSETFROM:-0400
TZOFFSETTO:-0500
TZNAME:EST
DTSTART:20231105T060000
END:STANDARD
BEGIN:DAYLIGHT
TZOFFSETFROM:-0500
TZOFFSETTO:-0400
TZNAME:EDT
DTSTART:20240310T070000
END:DAYLIGHT
BEGIN:STANDARD
TZOFFSETFROM:-0400
TZOFFSETTO:-0500
TZNAME:EST
DTSTART:20241103T060000
END:STANDARD
BEGIN:DAYLIGHT
TZOFFSETFROM:-0500
TZOFFSETTO:-0400
TZNAME:EDT
DTSTART:20250309T070000
END:DAYLIGHT
BEGIN:STANDARD
TZOFFSETFROM:-0400
TZOFFSETTO:-0500
TZNAME:EST
DTSTART:20251102T060000
END:STANDARD
END:VTIMEZONE
BEGIN:VEVENT
DTSTART;TZID=America/New_York:20240831T100000
DTEND;TZID=America/New_York:20240831T160000
DTSTAMP:20260426T002311
CREATED:20240712T233616Z
LAST-MODIFIED:20240712T233655Z
UID:10001488-1725098400-1725120000@www.maizevalley.com
SUMMARY:Sunflower Festival
DESCRIPTION:August 31 & September 7\, 2024\nSaturday\, August 31 & Saturday\, September 7\, 2024 from 10 am – 4 pm\, is the date for our annual Sunflower Festival.  Held in conjunction with Heart & Home Marketplace\, this event features acres of Sunflowers creating a beautiful backdrop for the perfect photo.  There will be over 100 artisans and makers of handcrafted items such as jewelry\, leather goods\, wood working\, painting\, fiber and more.  Stroll the grounds while you sip a glass of award winning Maize Valley Wine or Beer!   Take a break from shopping and selfies and enjoy some delicious food from one of the food truck vendors\, or from the Maize Valley Kitchen. \nThis family friendly event also features live music & corn hole games. Sip\, Shop\, and enjoy the beautiful grounds of Maize Valley.  Please leave ALL Pets at home. \nParking is free – there is a charge for access to the Sunflower Field and for any sunflowers you wish to pick.  Access to the Marketplace & artisans is free.  Follow us on Facebook & check back here for updates on this event.
URL:https://www.maizevalley.com/calendar/sunflower-festival-4/2024-08-31/
LOCATION:Maize Valley\, 6193 Edison St. NE (St. Rt. 619)\, Hartville\, OH\, 44632\, United States
ORGANIZER;CN="Maize Valley":MAILTO:info (@) maizevalley.com
GEO:40.9538889;-81.2817416
X-APPLE-STRUCTURED-LOCATION;VALUE=URI;X-ADDRESS=Maize Valley 6193 Edison St. NE (St. Rt. 619) Hartville OH 44632 United States;X-APPLE-RADIUS=500;X-TITLE=6193 Edison St. NE (St. Rt. 619):geo:-81.2817416,40.9538889
END:VEVENT
END:VCALENDAR