BEGIN:VCALENDAR
VERSION:2.0
PRODID:-//Maize Valley - ECPv6.15.17.1//NONSGML v1.0//EN
CALSCALE:GREGORIAN
METHOD:PUBLISH
X-WR-CALNAME:Maize Valley
X-ORIGINAL-URL:https://www.maizevalley.com
X-WR-CALDESC:Events for Maize Valley
REFRESH-INTERVAL;VALUE=DURATION:PT1H
X-Robots-Tag:noindex
X-PUBLISHED-TTL:PT1H
BEGIN:VTIMEZONE
TZID:America/New_York
BEGIN:DAYLIGHT
TZOFFSETFROM:-0500
TZOFFSETTO:-0400
TZNAME:EDT
DTSTART:20160313T070000
END:DAYLIGHT
BEGIN:STANDARD
TZOFFSETFROM:-0400
TZOFFSETTO:-0500
TZNAME:EST
DTSTART:20161106T060000
END:STANDARD
BEGIN:DAYLIGHT
TZOFFSETFROM:-0500
TZOFFSETTO:-0400
TZNAME:EDT
DTSTART:20170312T070000
END:DAYLIGHT
BEGIN:STANDARD
TZOFFSETFROM:-0400
TZOFFSETTO:-0500
TZNAME:EST
DTSTART:20171105T060000
END:STANDARD
BEGIN:DAYLIGHT
TZOFFSETFROM:-0500
TZOFFSETTO:-0400
TZNAME:EDT
DTSTART:20180311T070000
END:DAYLIGHT
BEGIN:STANDARD
TZOFFSETFROM:-0400
TZOFFSETTO:-0500
TZNAME:EST
DTSTART:20181104T060000
END:STANDARD
END:VTIMEZONE
BEGIN:VEVENT
DTSTART;TZID=America/New_York:20170509T180000
DTEND;TZID=America/New_York:20170509T210000
DTSTAMP:20260426T004003
CREATED:20160331T155806Z
LAST-MODIFIED:20170412T160608Z
UID:2183-1494352800-1494363600@www.maizevalley.com
SUMMARY:Pink Party
DESCRIPTION:[et_pb_section bb_built=”1″ admin_label=”section”][et_pb_row admin_label=”row”][et_pb_column type=”4_4″][et_pb_text admin_label=”Text” background_layout=”light” text_orientation=”left” use_border_color=”off” border_color=”#ffffff” border_style=”solid”] \nThe 2017 Pink Party will be held on Tuesday\, May 9 from 6 – 9 pm.  The cost is $20 per person and tickets can be purchased either online or by calling Maize Valley at 330 – 877 – 8344.  This is an event for both men and women!  This year we will give a special award to the best “Pinked Out” man – so guys – get your pink on!!! \nSpecial raffle item this year – A backyard bar!  Complete with bistro table & chairs\, compact refrigerator & locking cabinet.  Tickets for this item can be purchased below\, only 150 tickets will be sold and the winner will be drawn on May 9.  Local delivery is available for this unique item that could be a She Shed\, Backyard Bar\, or even a gardening shed.  Sized for most backyards – Pictures are available here. \nYour ticket includes light appetizers as well as a glass of wine (or beer) if you desire\, live entertainment and the chance to purchase raffle tickets for a huge variety of gift items.  Jewelry\, cosmetics\, gift baskets and more – items are being added daily. \nThe kitchen at Maize Valley will close at 4 pm on this day.  Please scroll to the bottom of this page for tickets. \n[/et_pb_text][/et_pb_column][/et_pb_row][/et_pb_section]
URL:https://www.maizevalley.com/calendar/pink-party/
LOCATION:Maize Valley\, 6193 Edison St. NE (St. Rt. 619)\, Hartville\, OH\, 44632\, United States
CATEGORIES:Activity,Music,Season,Spring,Summer,The Pink Party,Wine
ATTACH;FMTTYPE=image/jpeg:https://www.maizevalley.com/wp-content/uploads/2017/03/20150506_190956-scaled.jpg
ORGANIZER;CN="Maize Valley":MAILTO:info (@) maizevalley.com
GEO:40.9538889;-81.2817416
X-APPLE-STRUCTURED-LOCATION;VALUE=URI;X-ADDRESS=Maize Valley 6193 Edison St. NE (St. Rt. 619) Hartville OH 44632 United States;X-APPLE-RADIUS=500;X-TITLE=6193 Edison St. NE (St. Rt. 619):geo:-81.2817416,40.9538889
END:VEVENT
END:VCALENDAR