BEGIN:VCALENDAR
VERSION:2.0
PRODID:-//Maize Valley - ECPv6.15.17.1//NONSGML v1.0//EN
CALSCALE:GREGORIAN
METHOD:PUBLISH
X-WR-CALNAME:Maize Valley
X-ORIGINAL-URL:https://www.maizevalley.com
X-WR-CALDESC:Events for Maize Valley
REFRESH-INTERVAL;VALUE=DURATION:PT1H
X-Robots-Tag:noindex
X-PUBLISHED-TTL:PT1H
BEGIN:VTIMEZONE
TZID:America/New_York
BEGIN:DAYLIGHT
TZOFFSETFROM:-0500
TZOFFSETTO:-0400
TZNAME:EDT
DTSTART:20180311T070000
END:DAYLIGHT
BEGIN:STANDARD
TZOFFSETFROM:-0400
TZOFFSETTO:-0500
TZNAME:EST
DTSTART:20181104T060000
END:STANDARD
BEGIN:DAYLIGHT
TZOFFSETFROM:-0500
TZOFFSETTO:-0400
TZNAME:EDT
DTSTART:20190310T070000
END:DAYLIGHT
BEGIN:STANDARD
TZOFFSETFROM:-0400
TZOFFSETTO:-0500
TZNAME:EST
DTSTART:20191103T060000
END:STANDARD
BEGIN:DAYLIGHT
TZOFFSETFROM:-0500
TZOFFSETTO:-0400
TZNAME:EDT
DTSTART:20200308T070000
END:DAYLIGHT
BEGIN:STANDARD
TZOFFSETFROM:-0400
TZOFFSETTO:-0500
TZNAME:EST
DTSTART:20201101T060000
END:STANDARD
END:VTIMEZONE
BEGIN:VEVENT
DTSTART;TZID=America/New_York:20190507T180000
DTEND;TZID=America/New_York:20190507T210000
DTSTAMP:20260425T232043
CREATED:20190410T192701Z
LAST-MODIFIED:20190410T193335Z
UID:16377-1557252000-1557262800@www.maizevalley.com
SUMMARY:Pink Party 2019
DESCRIPTION:[et_pb_section bb_built=”1″][et_pb_row _builder_version=”3.21.1″][et_pb_column type=”4_4″][et_pb_text] \n\nTHE Pink Party is an annual Breast Cancer Fundraiser held by Maize Valley in support of the Susan G Komen Foundation. The Susan G Komen Foundation is the largest contributor to Breast Cancer Research in the world. \nThis fun evening is a celebration of life!  The 2019 event will be held on May 7\,  it features live music\, wine/beer\, hors d’oeuvres\, raffle baskets\, silent auction\, live auction\, wine pull and more. Every guest receives a commemorative wine glass to take home!  Tickets are only $20 each and can be purchased here or at the door that evening. \n[/et_pb_text][et_pb_button _builder_version=”3.21.1″ button_text=”Tickets” z_index_tablet=”500″ button_url=”https://www.maizevalley.com/shop/pink-party-tickets/” button_alignment=”center” background_layout=”dark” custom_button=”on” button_bg_color=”#dd1fda” box_shadow_style=”preset1″ /][/et_pb_column][/et_pb_row][/et_pb_section]
URL:https://www.maizevalley.com/calendar/pink-party-2019/
LOCATION:Maize Valley\, 6193 Edison St. NE (St. Rt. 619)\, Hartville\, OH\, 44632\, United States
CATEGORIES:Activity,Pink Party,The Pink Party
ORGANIZER;CN="Maize Valley":MAILTO:info (@) maizevalley.com
GEO:40.9538889;-81.2817416
X-APPLE-STRUCTURED-LOCATION;VALUE=URI;X-ADDRESS=Maize Valley 6193 Edison St. NE (St. Rt. 619) Hartville OH 44632 United States;X-APPLE-RADIUS=500;X-TITLE=6193 Edison St. NE (St. Rt. 619):geo:-81.2817416,40.9538889
END:VEVENT
END:VCALENDAR