BEGIN:VCALENDAR
VERSION:2.0
PRODID:-//Maize Valley - ECPv6.15.17.1//NONSGML v1.0//EN
CALSCALE:GREGORIAN
METHOD:PUBLISH
X-WR-CALNAME:Maize Valley
X-ORIGINAL-URL:https://www.maizevalley.com
X-WR-CALDESC:Events for Maize Valley
REFRESH-INTERVAL;VALUE=DURATION:PT1H
X-Robots-Tag:noindex
X-PUBLISHED-TTL:PT1H
BEGIN:VTIMEZONE
TZID:America/New_York
BEGIN:DAYLIGHT
TZOFFSETFROM:-0500
TZOFFSETTO:-0400
TZNAME:EDT
DTSTART:20200308T070000
END:DAYLIGHT
BEGIN:STANDARD
TZOFFSETFROM:-0400
TZOFFSETTO:-0500
TZNAME:EST
DTSTART:20201101T060000
END:STANDARD
BEGIN:DAYLIGHT
TZOFFSETFROM:-0500
TZOFFSETTO:-0400
TZNAME:EDT
DTSTART:20210314T070000
END:DAYLIGHT
BEGIN:STANDARD
TZOFFSETFROM:-0400
TZOFFSETTO:-0500
TZNAME:EST
DTSTART:20211107T060000
END:STANDARD
BEGIN:DAYLIGHT
TZOFFSETFROM:-0500
TZOFFSETTO:-0400
TZNAME:EDT
DTSTART:20220313T070000
END:DAYLIGHT
BEGIN:STANDARD
TZOFFSETFROM:-0400
TZOFFSETTO:-0500
TZNAME:EST
DTSTART:20221106T060000
END:STANDARD
END:VTIMEZONE
BEGIN:VEVENT
DTSTART;TZID=America/New_York:20211030T120000
DTEND;TZID=America/New_York:20211030T190000
DTSTAMP:20260424T125813
CREATED:20210813T141527Z
LAST-MODIFIED:20210910T163102Z
UID:10001127-1635595200-1635620400@www.maizevalley.com
SUMMARY:Fall Harvest Activities
DESCRIPTION:
URL:https://www.maizevalley.com/calendar/fall-harvest-activities/2021-10-30/
LOCATION:Maize Valley\, 6193 Edison St. NE (St. Rt. 619)\, Hartville\, OH\, 44632\, United States
CATEGORIES:Fall,Open
ORGANIZER;CN="Maize Valley":MAILTO:info (@) maizevalley.com
GEO:40.9538889;-81.2817416
X-APPLE-STRUCTURED-LOCATION;VALUE=URI;X-ADDRESS=Maize Valley 6193 Edison St. NE (St. Rt. 619) Hartville OH 44632 United States;X-APPLE-RADIUS=500;X-TITLE=6193 Edison St. NE (St. Rt. 619):geo:-81.2817416,40.9538889
END:VEVENT
BEGIN:VEVENT
DTSTART;TZID=America/New_York:20211029T120000
DTEND;TZID=America/New_York:20211029T190000
DTSTAMP:20260424T125813
CREATED:20210813T141527Z
LAST-MODIFIED:20210910T163102Z
UID:10001126-1635508800-1635534000@www.maizevalley.com
SUMMARY:Fall Harvest Activities
DESCRIPTION:
URL:https://www.maizevalley.com/calendar/fall-harvest-activities/2021-10-29/
LOCATION:Maize Valley\, 6193 Edison St. NE (St. Rt. 619)\, Hartville\, OH\, 44632\, United States
CATEGORIES:Fall,Open
ORGANIZER;CN="Maize Valley":MAILTO:info (@) maizevalley.com
GEO:40.9538889;-81.2817416
X-APPLE-STRUCTURED-LOCATION;VALUE=URI;X-ADDRESS=Maize Valley 6193 Edison St. NE (St. Rt. 619) Hartville OH 44632 United States;X-APPLE-RADIUS=500;X-TITLE=6193 Edison St. NE (St. Rt. 619):geo:-81.2817416,40.9538889
END:VEVENT
BEGIN:VEVENT
DTSTART;TZID=America/New_York:20211028T120000
DTEND;TZID=America/New_York:20211028T190000
DTSTAMP:20260424T125813
CREATED:20210813T141527Z
LAST-MODIFIED:20210910T163102Z
UID:10001125-1635422400-1635447600@www.maizevalley.com
SUMMARY:Fall Harvest Activities
DESCRIPTION:
URL:https://www.maizevalley.com/calendar/fall-harvest-activities/2021-10-28/
LOCATION:Maize Valley\, 6193 Edison St. NE (St. Rt. 619)\, Hartville\, OH\, 44632\, United States
CATEGORIES:Fall,Open
ORGANIZER;CN="Maize Valley":MAILTO:info (@) maizevalley.com
GEO:40.9538889;-81.2817416
X-APPLE-STRUCTURED-LOCATION;VALUE=URI;X-ADDRESS=Maize Valley 6193 Edison St. NE (St. Rt. 619) Hartville OH 44632 United States;X-APPLE-RADIUS=500;X-TITLE=6193 Edison St. NE (St. Rt. 619):geo:-81.2817416,40.9538889
END:VEVENT
BEGIN:VEVENT
DTSTART;VALUE=DATE:20211027
DTEND;VALUE=DATE:20211028
DTSTAMP:20260424T125813
CREATED:20210813T144503Z
LAST-MODIFIED:20210910T163324Z
UID:10000499-1635292800-1635379199@www.maizevalley.com
SUMMARY:Fall Harvest Activities Closed
DESCRIPTION:
URL:https://www.maizevalley.com/calendar/fall-harvest-activities-closed/2021-10-27/
LOCATION:Maize Valley\, 6193 Edison St. NE (St. Rt. 619)\, Hartville\, OH\, 44632\, United States
CATEGORIES:Closed
ORGANIZER;CN="Maize Valley":MAILTO:info (@) maizevalley.com
GEO:40.9538889;-81.2817416
X-APPLE-STRUCTURED-LOCATION;VALUE=URI;X-ADDRESS=Maize Valley 6193 Edison St. NE (St. Rt. 619) Hartville OH 44632 United States;X-APPLE-RADIUS=500;X-TITLE=6193 Edison St. NE (St. Rt. 619):geo:-81.2817416,40.9538889
END:VEVENT
BEGIN:VEVENT
DTSTART;VALUE=DATE:20211026
DTEND;VALUE=DATE:20211027
DTSTAMP:20260424T125813
CREATED:20210813T144503Z
LAST-MODIFIED:20210910T163324Z
UID:10000498-1635206400-1635292799@www.maizevalley.com
SUMMARY:Fall Harvest Activities Closed
DESCRIPTION:
URL:https://www.maizevalley.com/calendar/fall-harvest-activities-closed/2021-10-26/
LOCATION:Maize Valley\, 6193 Edison St. NE (St. Rt. 619)\, Hartville\, OH\, 44632\, United States
CATEGORIES:Closed
ORGANIZER;CN="Maize Valley":MAILTO:info (@) maizevalley.com
GEO:40.9538889;-81.2817416
X-APPLE-STRUCTURED-LOCATION;VALUE=URI;X-ADDRESS=Maize Valley 6193 Edison St. NE (St. Rt. 619) Hartville OH 44632 United States;X-APPLE-RADIUS=500;X-TITLE=6193 Edison St. NE (St. Rt. 619):geo:-81.2817416,40.9538889
END:VEVENT
BEGIN:VEVENT
DTSTART;TZID=America/New_York:20211025T120000
DTEND;TZID=America/New_York:20211025T190000
DTSTAMP:20260424T125813
CREATED:20210813T141527Z
LAST-MODIFIED:20210910T163102Z
UID:10001124-1635163200-1635188400@www.maizevalley.com
SUMMARY:Fall Harvest Activities
DESCRIPTION:
URL:https://www.maizevalley.com/calendar/fall-harvest-activities/2021-10-25/
LOCATION:Maize Valley\, 6193 Edison St. NE (St. Rt. 619)\, Hartville\, OH\, 44632\, United States
CATEGORIES:Fall,Open
ORGANIZER;CN="Maize Valley":MAILTO:info (@) maizevalley.com
GEO:40.9538889;-81.2817416
X-APPLE-STRUCTURED-LOCATION;VALUE=URI;X-ADDRESS=Maize Valley 6193 Edison St. NE (St. Rt. 619) Hartville OH 44632 United States;X-APPLE-RADIUS=500;X-TITLE=6193 Edison St. NE (St. Rt. 619):geo:-81.2817416,40.9538889
END:VEVENT
BEGIN:VEVENT
DTSTART;TZID=America/New_York:20211024T120000
DTEND;TZID=America/New_York:20211024T190000
DTSTAMP:20260424T125813
CREATED:20210813T141527Z
LAST-MODIFIED:20210910T163102Z
UID:10001123-1635076800-1635102000@www.maizevalley.com
SUMMARY:Fall Harvest Activities
DESCRIPTION:
URL:https://www.maizevalley.com/calendar/fall-harvest-activities/2021-10-24/
LOCATION:Maize Valley\, 6193 Edison St. NE (St. Rt. 619)\, Hartville\, OH\, 44632\, United States
CATEGORIES:Fall,Open
ORGANIZER;CN="Maize Valley":MAILTO:info (@) maizevalley.com
GEO:40.9538889;-81.2817416
X-APPLE-STRUCTURED-LOCATION;VALUE=URI;X-ADDRESS=Maize Valley 6193 Edison St. NE (St. Rt. 619) Hartville OH 44632 United States;X-APPLE-RADIUS=500;X-TITLE=6193 Edison St. NE (St. Rt. 619):geo:-81.2817416,40.9538889
END:VEVENT
BEGIN:VEVENT
DTSTART;TZID=America/New_York:20211023T120000
DTEND;TZID=America/New_York:20211023T190000
DTSTAMP:20260424T125813
CREATED:20210813T141527Z
LAST-MODIFIED:20210910T163102Z
UID:10001122-1634990400-1635015600@www.maizevalley.com
SUMMARY:Fall Harvest Activities
DESCRIPTION:
URL:https://www.maizevalley.com/calendar/fall-harvest-activities/2021-10-23/
LOCATION:Maize Valley\, 6193 Edison St. NE (St. Rt. 619)\, Hartville\, OH\, 44632\, United States
CATEGORIES:Fall,Open
ORGANIZER;CN="Maize Valley":MAILTO:info (@) maizevalley.com
GEO:40.9538889;-81.2817416
X-APPLE-STRUCTURED-LOCATION;VALUE=URI;X-ADDRESS=Maize Valley 6193 Edison St. NE (St. Rt. 619) Hartville OH 44632 United States;X-APPLE-RADIUS=500;X-TITLE=6193 Edison St. NE (St. Rt. 619):geo:-81.2817416,40.9538889
END:VEVENT
BEGIN:VEVENT
DTSTART;TZID=America/New_York:20211022T120000
DTEND;TZID=America/New_York:20211022T190000
DTSTAMP:20260424T125813
CREATED:20210813T141527Z
LAST-MODIFIED:20210910T163102Z
UID:10001121-1634904000-1634929200@www.maizevalley.com
SUMMARY:Fall Harvest Activities
DESCRIPTION:
URL:https://www.maizevalley.com/calendar/fall-harvest-activities/2021-10-22/
LOCATION:Maize Valley\, 6193 Edison St. NE (St. Rt. 619)\, Hartville\, OH\, 44632\, United States
CATEGORIES:Fall,Open
ORGANIZER;CN="Maize Valley":MAILTO:info (@) maizevalley.com
GEO:40.9538889;-81.2817416
X-APPLE-STRUCTURED-LOCATION;VALUE=URI;X-ADDRESS=Maize Valley 6193 Edison St. NE (St. Rt. 619) Hartville OH 44632 United States;X-APPLE-RADIUS=500;X-TITLE=6193 Edison St. NE (St. Rt. 619):geo:-81.2817416,40.9538889
END:VEVENT
BEGIN:VEVENT
DTSTART;TZID=America/New_York:20211021T120000
DTEND;TZID=America/New_York:20211021T190000
DTSTAMP:20260424T125813
CREATED:20210813T141527Z
LAST-MODIFIED:20210910T163102Z
UID:10001120-1634817600-1634842800@www.maizevalley.com
SUMMARY:Fall Harvest Activities
DESCRIPTION:
URL:https://www.maizevalley.com/calendar/fall-harvest-activities/2021-10-21/
LOCATION:Maize Valley\, 6193 Edison St. NE (St. Rt. 619)\, Hartville\, OH\, 44632\, United States
CATEGORIES:Fall,Open
ORGANIZER;CN="Maize Valley":MAILTO:info (@) maizevalley.com
GEO:40.9538889;-81.2817416
X-APPLE-STRUCTURED-LOCATION;VALUE=URI;X-ADDRESS=Maize Valley 6193 Edison St. NE (St. Rt. 619) Hartville OH 44632 United States;X-APPLE-RADIUS=500;X-TITLE=6193 Edison St. NE (St. Rt. 619):geo:-81.2817416,40.9538889
END:VEVENT
BEGIN:VEVENT
DTSTART;VALUE=DATE:20211020
DTEND;VALUE=DATE:20211021
DTSTAMP:20260424T125813
CREATED:20210813T144503Z
LAST-MODIFIED:20210910T163324Z
UID:10000497-1634688000-1634774399@www.maizevalley.com
SUMMARY:Fall Harvest Activities Closed
DESCRIPTION:
URL:https://www.maizevalley.com/calendar/fall-harvest-activities-closed/2021-10-20/
LOCATION:Maize Valley\, 6193 Edison St. NE (St. Rt. 619)\, Hartville\, OH\, 44632\, United States
CATEGORIES:Closed
ORGANIZER;CN="Maize Valley":MAILTO:info (@) maizevalley.com
GEO:40.9538889;-81.2817416
X-APPLE-STRUCTURED-LOCATION;VALUE=URI;X-ADDRESS=Maize Valley 6193 Edison St. NE (St. Rt. 619) Hartville OH 44632 United States;X-APPLE-RADIUS=500;X-TITLE=6193 Edison St. NE (St. Rt. 619):geo:-81.2817416,40.9538889
END:VEVENT
BEGIN:VEVENT
DTSTART;VALUE=DATE:20211019
DTEND;VALUE=DATE:20211020
DTSTAMP:20260424T125813
CREATED:20210813T144503Z
LAST-MODIFIED:20210910T163324Z
UID:10000496-1634601600-1634687999@www.maizevalley.com
SUMMARY:Fall Harvest Activities Closed
DESCRIPTION:
URL:https://www.maizevalley.com/calendar/fall-harvest-activities-closed/2021-10-19/
LOCATION:Maize Valley\, 6193 Edison St. NE (St. Rt. 619)\, Hartville\, OH\, 44632\, United States
CATEGORIES:Closed
ORGANIZER;CN="Maize Valley":MAILTO:info (@) maizevalley.com
GEO:40.9538889;-81.2817416
X-APPLE-STRUCTURED-LOCATION;VALUE=URI;X-ADDRESS=Maize Valley 6193 Edison St. NE (St. Rt. 619) Hartville OH 44632 United States;X-APPLE-RADIUS=500;X-TITLE=6193 Edison St. NE (St. Rt. 619):geo:-81.2817416,40.9538889
END:VEVENT
BEGIN:VEVENT
DTSTART;TZID=America/New_York:20211018T120000
DTEND;TZID=America/New_York:20211018T190000
DTSTAMP:20260424T125813
CREATED:20210813T141527Z
LAST-MODIFIED:20210910T163102Z
UID:10001119-1634558400-1634583600@www.maizevalley.com
SUMMARY:Fall Harvest Activities
DESCRIPTION:
URL:https://www.maizevalley.com/calendar/fall-harvest-activities/2021-10-18/
LOCATION:Maize Valley\, 6193 Edison St. NE (St. Rt. 619)\, Hartville\, OH\, 44632\, United States
CATEGORIES:Fall,Open
ORGANIZER;CN="Maize Valley":MAILTO:info (@) maizevalley.com
GEO:40.9538889;-81.2817416
X-APPLE-STRUCTURED-LOCATION;VALUE=URI;X-ADDRESS=Maize Valley 6193 Edison St. NE (St. Rt. 619) Hartville OH 44632 United States;X-APPLE-RADIUS=500;X-TITLE=6193 Edison St. NE (St. Rt. 619):geo:-81.2817416,40.9538889
END:VEVENT
BEGIN:VEVENT
DTSTART;TZID=America/New_York:20211017T120000
DTEND;TZID=America/New_York:20211017T190000
DTSTAMP:20260424T125813
CREATED:20210813T141527Z
LAST-MODIFIED:20210910T163102Z
UID:10001118-1634472000-1634497200@www.maizevalley.com
SUMMARY:Fall Harvest Activities
DESCRIPTION:
URL:https://www.maizevalley.com/calendar/fall-harvest-activities/2021-10-17/
LOCATION:Maize Valley\, 6193 Edison St. NE (St. Rt. 619)\, Hartville\, OH\, 44632\, United States
CATEGORIES:Fall,Open
ORGANIZER;CN="Maize Valley":MAILTO:info (@) maizevalley.com
GEO:40.9538889;-81.2817416
X-APPLE-STRUCTURED-LOCATION;VALUE=URI;X-ADDRESS=Maize Valley 6193 Edison St. NE (St. Rt. 619) Hartville OH 44632 United States;X-APPLE-RADIUS=500;X-TITLE=6193 Edison St. NE (St. Rt. 619):geo:-81.2817416,40.9538889
END:VEVENT
BEGIN:VEVENT
DTSTART;TZID=America/New_York:20211016T120000
DTEND;TZID=America/New_York:20211016T190000
DTSTAMP:20260424T125813
CREATED:20210813T141527Z
LAST-MODIFIED:20210910T163102Z
UID:10001117-1634385600-1634410800@www.maizevalley.com
SUMMARY:Fall Harvest Activities
DESCRIPTION:
URL:https://www.maizevalley.com/calendar/fall-harvest-activities/2021-10-16/
LOCATION:Maize Valley\, 6193 Edison St. NE (St. Rt. 619)\, Hartville\, OH\, 44632\, United States
CATEGORIES:Fall,Open
ORGANIZER;CN="Maize Valley":MAILTO:info (@) maizevalley.com
GEO:40.9538889;-81.2817416
X-APPLE-STRUCTURED-LOCATION;VALUE=URI;X-ADDRESS=Maize Valley 6193 Edison St. NE (St. Rt. 619) Hartville OH 44632 United States;X-APPLE-RADIUS=500;X-TITLE=6193 Edison St. NE (St. Rt. 619):geo:-81.2817416,40.9538889
END:VEVENT
BEGIN:VEVENT
DTSTART;TZID=America/New_York:20211015T120000
DTEND;TZID=America/New_York:20211015T190000
DTSTAMP:20260424T125813
CREATED:20210813T141527Z
LAST-MODIFIED:20210910T163102Z
UID:10001116-1634299200-1634324400@www.maizevalley.com
SUMMARY:Fall Harvest Activities
DESCRIPTION:
URL:https://www.maizevalley.com/calendar/fall-harvest-activities/2021-10-15/
LOCATION:Maize Valley\, 6193 Edison St. NE (St. Rt. 619)\, Hartville\, OH\, 44632\, United States
CATEGORIES:Fall,Open
ORGANIZER;CN="Maize Valley":MAILTO:info (@) maizevalley.com
GEO:40.9538889;-81.2817416
X-APPLE-STRUCTURED-LOCATION;VALUE=URI;X-ADDRESS=Maize Valley 6193 Edison St. NE (St. Rt. 619) Hartville OH 44632 United States;X-APPLE-RADIUS=500;X-TITLE=6193 Edison St. NE (St. Rt. 619):geo:-81.2817416,40.9538889
END:VEVENT
BEGIN:VEVENT
DTSTART;TZID=America/New_York:20211014T120000
DTEND;TZID=America/New_York:20211014T190000
DTSTAMP:20260424T125813
CREATED:20210813T141527Z
LAST-MODIFIED:20210910T163102Z
UID:10001115-1634212800-1634238000@www.maizevalley.com
SUMMARY:Fall Harvest Activities
DESCRIPTION:
URL:https://www.maizevalley.com/calendar/fall-harvest-activities/2021-10-14/
LOCATION:Maize Valley\, 6193 Edison St. NE (St. Rt. 619)\, Hartville\, OH\, 44632\, United States
CATEGORIES:Fall,Open
ORGANIZER;CN="Maize Valley":MAILTO:info (@) maizevalley.com
GEO:40.9538889;-81.2817416
X-APPLE-STRUCTURED-LOCATION;VALUE=URI;X-ADDRESS=Maize Valley 6193 Edison St. NE (St. Rt. 619) Hartville OH 44632 United States;X-APPLE-RADIUS=500;X-TITLE=6193 Edison St. NE (St. Rt. 619):geo:-81.2817416,40.9538889
END:VEVENT
BEGIN:VEVENT
DTSTART;VALUE=DATE:20211013
DTEND;VALUE=DATE:20211014
DTSTAMP:20260424T125813
CREATED:20210813T144503Z
LAST-MODIFIED:20210910T163324Z
UID:10000495-1634083200-1634169599@www.maizevalley.com
SUMMARY:Fall Harvest Activities Closed
DESCRIPTION:
URL:https://www.maizevalley.com/calendar/fall-harvest-activities-closed/2021-10-13/
LOCATION:Maize Valley\, 6193 Edison St. NE (St. Rt. 619)\, Hartville\, OH\, 44632\, United States
CATEGORIES:Closed
ORGANIZER;CN="Maize Valley":MAILTO:info (@) maizevalley.com
GEO:40.9538889;-81.2817416
X-APPLE-STRUCTURED-LOCATION;VALUE=URI;X-ADDRESS=Maize Valley 6193 Edison St. NE (St. Rt. 619) Hartville OH 44632 United States;X-APPLE-RADIUS=500;X-TITLE=6193 Edison St. NE (St. Rt. 619):geo:-81.2817416,40.9538889
END:VEVENT
BEGIN:VEVENT
DTSTART;VALUE=DATE:20211012
DTEND;VALUE=DATE:20211013
DTSTAMP:20260424T125813
CREATED:20210813T144503Z
LAST-MODIFIED:20210910T163324Z
UID:10000494-1633996800-1634083199@www.maizevalley.com
SUMMARY:Fall Harvest Activities Closed
DESCRIPTION:
URL:https://www.maizevalley.com/calendar/fall-harvest-activities-closed/2021-10-12/
LOCATION:Maize Valley\, 6193 Edison St. NE (St. Rt. 619)\, Hartville\, OH\, 44632\, United States
CATEGORIES:Closed
ORGANIZER;CN="Maize Valley":MAILTO:info (@) maizevalley.com
GEO:40.9538889;-81.2817416
X-APPLE-STRUCTURED-LOCATION;VALUE=URI;X-ADDRESS=Maize Valley 6193 Edison St. NE (St. Rt. 619) Hartville OH 44632 United States;X-APPLE-RADIUS=500;X-TITLE=6193 Edison St. NE (St. Rt. 619):geo:-81.2817416,40.9538889
END:VEVENT
BEGIN:VEVENT
DTSTART;TZID=America/New_York:20211011T120000
DTEND;TZID=America/New_York:20211011T190000
DTSTAMP:20260424T125813
CREATED:20210813T141527Z
LAST-MODIFIED:20210910T163102Z
UID:10001114-1633953600-1633978800@www.maizevalley.com
SUMMARY:Fall Harvest Activities
DESCRIPTION:
URL:https://www.maizevalley.com/calendar/fall-harvest-activities/2021-10-11/
LOCATION:Maize Valley\, 6193 Edison St. NE (St. Rt. 619)\, Hartville\, OH\, 44632\, United States
CATEGORIES:Fall,Open
ORGANIZER;CN="Maize Valley":MAILTO:info (@) maizevalley.com
GEO:40.9538889;-81.2817416
X-APPLE-STRUCTURED-LOCATION;VALUE=URI;X-ADDRESS=Maize Valley 6193 Edison St. NE (St. Rt. 619) Hartville OH 44632 United States;X-APPLE-RADIUS=500;X-TITLE=6193 Edison St. NE (St. Rt. 619):geo:-81.2817416,40.9538889
END:VEVENT
BEGIN:VEVENT
DTSTART;TZID=America/New_York:20211010T120000
DTEND;TZID=America/New_York:20211010T190000
DTSTAMP:20260424T125813
CREATED:20210813T141527Z
LAST-MODIFIED:20210910T163102Z
UID:10001113-1633867200-1633892400@www.maizevalley.com
SUMMARY:Fall Harvest Activities
DESCRIPTION:
URL:https://www.maizevalley.com/calendar/fall-harvest-activities/2021-10-10/
LOCATION:Maize Valley\, 6193 Edison St. NE (St. Rt. 619)\, Hartville\, OH\, 44632\, United States
CATEGORIES:Fall,Open
ORGANIZER;CN="Maize Valley":MAILTO:info (@) maizevalley.com
GEO:40.9538889;-81.2817416
X-APPLE-STRUCTURED-LOCATION;VALUE=URI;X-ADDRESS=Maize Valley 6193 Edison St. NE (St. Rt. 619) Hartville OH 44632 United States;X-APPLE-RADIUS=500;X-TITLE=6193 Edison St. NE (St. Rt. 619):geo:-81.2817416,40.9538889
END:VEVENT
BEGIN:VEVENT
DTSTART;TZID=America/New_York:20211009T120000
DTEND;TZID=America/New_York:20211009T190000
DTSTAMP:20260424T125813
CREATED:20210813T141527Z
LAST-MODIFIED:20210910T163102Z
UID:10001112-1633780800-1633806000@www.maizevalley.com
SUMMARY:Fall Harvest Activities
DESCRIPTION:
URL:https://www.maizevalley.com/calendar/fall-harvest-activities/2021-10-09/
LOCATION:Maize Valley\, 6193 Edison St. NE (St. Rt. 619)\, Hartville\, OH\, 44632\, United States
CATEGORIES:Fall,Open
ORGANIZER;CN="Maize Valley":MAILTO:info (@) maizevalley.com
GEO:40.9538889;-81.2817416
X-APPLE-STRUCTURED-LOCATION;VALUE=URI;X-ADDRESS=Maize Valley 6193 Edison St. NE (St. Rt. 619) Hartville OH 44632 United States;X-APPLE-RADIUS=500;X-TITLE=6193 Edison St. NE (St. Rt. 619):geo:-81.2817416,40.9538889
END:VEVENT
BEGIN:VEVENT
DTSTART;TZID=America/New_York:20211008T120000
DTEND;TZID=America/New_York:20211008T190000
DTSTAMP:20260424T125813
CREATED:20210813T141527Z
LAST-MODIFIED:20210910T163102Z
UID:10001111-1633694400-1633719600@www.maizevalley.com
SUMMARY:Fall Harvest Activities
DESCRIPTION:
URL:https://www.maizevalley.com/calendar/fall-harvest-activities/2021-10-08/
LOCATION:Maize Valley\, 6193 Edison St. NE (St. Rt. 619)\, Hartville\, OH\, 44632\, United States
CATEGORIES:Fall,Open
ORGANIZER;CN="Maize Valley":MAILTO:info (@) maizevalley.com
GEO:40.9538889;-81.2817416
X-APPLE-STRUCTURED-LOCATION;VALUE=URI;X-ADDRESS=Maize Valley 6193 Edison St. NE (St. Rt. 619) Hartville OH 44632 United States;X-APPLE-RADIUS=500;X-TITLE=6193 Edison St. NE (St. Rt. 619):geo:-81.2817416,40.9538889
END:VEVENT
BEGIN:VEVENT
DTSTART;TZID=America/New_York:20211007T120000
DTEND;TZID=America/New_York:20211007T190000
DTSTAMP:20260424T125813
CREATED:20210813T141527Z
LAST-MODIFIED:20210910T163102Z
UID:10001110-1633608000-1633633200@www.maizevalley.com
SUMMARY:Fall Harvest Activities
DESCRIPTION:
URL:https://www.maizevalley.com/calendar/fall-harvest-activities/2021-10-07/
LOCATION:Maize Valley\, 6193 Edison St. NE (St. Rt. 619)\, Hartville\, OH\, 44632\, United States
CATEGORIES:Fall,Open
ORGANIZER;CN="Maize Valley":MAILTO:info (@) maizevalley.com
GEO:40.9538889;-81.2817416
X-APPLE-STRUCTURED-LOCATION;VALUE=URI;X-ADDRESS=Maize Valley 6193 Edison St. NE (St. Rt. 619) Hartville OH 44632 United States;X-APPLE-RADIUS=500;X-TITLE=6193 Edison St. NE (St. Rt. 619):geo:-81.2817416,40.9538889
END:VEVENT
BEGIN:VEVENT
DTSTART;VALUE=DATE:20211006
DTEND;VALUE=DATE:20211007
DTSTAMP:20260424T125813
CREATED:20210813T144503Z
LAST-MODIFIED:20210910T163324Z
UID:10000493-1633478400-1633564799@www.maizevalley.com
SUMMARY:Fall Harvest Activities Closed
DESCRIPTION:
URL:https://www.maizevalley.com/calendar/fall-harvest-activities-closed/2021-10-06/
LOCATION:Maize Valley\, 6193 Edison St. NE (St. Rt. 619)\, Hartville\, OH\, 44632\, United States
CATEGORIES:Closed
ORGANIZER;CN="Maize Valley":MAILTO:info (@) maizevalley.com
GEO:40.9538889;-81.2817416
X-APPLE-STRUCTURED-LOCATION;VALUE=URI;X-ADDRESS=Maize Valley 6193 Edison St. NE (St. Rt. 619) Hartville OH 44632 United States;X-APPLE-RADIUS=500;X-TITLE=6193 Edison St. NE (St. Rt. 619):geo:-81.2817416,40.9538889
END:VEVENT
BEGIN:VEVENT
DTSTART;VALUE=DATE:20211005
DTEND;VALUE=DATE:20211006
DTSTAMP:20260424T125813
CREATED:20210813T144503Z
LAST-MODIFIED:20210910T163324Z
UID:10000492-1633392000-1633478399@www.maizevalley.com
SUMMARY:Fall Harvest Activities Closed
DESCRIPTION:
URL:https://www.maizevalley.com/calendar/fall-harvest-activities-closed/2021-10-05/
LOCATION:Maize Valley\, 6193 Edison St. NE (St. Rt. 619)\, Hartville\, OH\, 44632\, United States
CATEGORIES:Closed
ORGANIZER;CN="Maize Valley":MAILTO:info (@) maizevalley.com
GEO:40.9538889;-81.2817416
X-APPLE-STRUCTURED-LOCATION;VALUE=URI;X-ADDRESS=Maize Valley 6193 Edison St. NE (St. Rt. 619) Hartville OH 44632 United States;X-APPLE-RADIUS=500;X-TITLE=6193 Edison St. NE (St. Rt. 619):geo:-81.2817416,40.9538889
END:VEVENT
BEGIN:VEVENT
DTSTART;TZID=America/New_York:20211004T120000
DTEND;TZID=America/New_York:20211004T190000
DTSTAMP:20260424T125813
CREATED:20210813T141527Z
LAST-MODIFIED:20210910T163102Z
UID:10001109-1633348800-1633374000@www.maizevalley.com
SUMMARY:Fall Harvest Activities
DESCRIPTION:
URL:https://www.maizevalley.com/calendar/fall-harvest-activities/2021-10-04/
LOCATION:Maize Valley\, 6193 Edison St. NE (St. Rt. 619)\, Hartville\, OH\, 44632\, United States
CATEGORIES:Fall,Open
ORGANIZER;CN="Maize Valley":MAILTO:info (@) maizevalley.com
GEO:40.9538889;-81.2817416
X-APPLE-STRUCTURED-LOCATION;VALUE=URI;X-ADDRESS=Maize Valley 6193 Edison St. NE (St. Rt. 619) Hartville OH 44632 United States;X-APPLE-RADIUS=500;X-TITLE=6193 Edison St. NE (St. Rt. 619):geo:-81.2817416,40.9538889
END:VEVENT
BEGIN:VEVENT
DTSTART;TZID=America/New_York:20211003T120000
DTEND;TZID=America/New_York:20211003T190000
DTSTAMP:20260424T125813
CREATED:20210813T141527Z
LAST-MODIFIED:20210910T163102Z
UID:10001108-1633262400-1633287600@www.maizevalley.com
SUMMARY:Fall Harvest Activities
DESCRIPTION:
URL:https://www.maizevalley.com/calendar/fall-harvest-activities/2021-10-03/
LOCATION:Maize Valley\, 6193 Edison St. NE (St. Rt. 619)\, Hartville\, OH\, 44632\, United States
CATEGORIES:Fall,Open
ORGANIZER;CN="Maize Valley":MAILTO:info (@) maizevalley.com
GEO:40.9538889;-81.2817416
X-APPLE-STRUCTURED-LOCATION;VALUE=URI;X-ADDRESS=Maize Valley 6193 Edison St. NE (St. Rt. 619) Hartville OH 44632 United States;X-APPLE-RADIUS=500;X-TITLE=6193 Edison St. NE (St. Rt. 619):geo:-81.2817416,40.9538889
END:VEVENT
BEGIN:VEVENT
DTSTART;TZID=America/New_York:20211002T120000
DTEND;TZID=America/New_York:20211002T190000
DTSTAMP:20260424T125813
CREATED:20210813T141527Z
LAST-MODIFIED:20210910T163102Z
UID:10001107-1633176000-1633201200@www.maizevalley.com
SUMMARY:Fall Harvest Activities
DESCRIPTION:
URL:https://www.maizevalley.com/calendar/fall-harvest-activities/2021-10-02/
LOCATION:Maize Valley\, 6193 Edison St. NE (St. Rt. 619)\, Hartville\, OH\, 44632\, United States
CATEGORIES:Fall,Open
ORGANIZER;CN="Maize Valley":MAILTO:info (@) maizevalley.com
GEO:40.9538889;-81.2817416
X-APPLE-STRUCTURED-LOCATION;VALUE=URI;X-ADDRESS=Maize Valley 6193 Edison St. NE (St. Rt. 619) Hartville OH 44632 United States;X-APPLE-RADIUS=500;X-TITLE=6193 Edison St. NE (St. Rt. 619):geo:-81.2817416,40.9538889
END:VEVENT
BEGIN:VEVENT
DTSTART;VALUE=DATE:20211001
DTEND;VALUE=DATE:20211002
DTSTAMP:20260424T125813
CREATED:20210813T144503Z
LAST-MODIFIED:20210910T163324Z
UID:10000491-1633046400-1633132799@www.maizevalley.com
SUMMARY:Fall Harvest Activities Closed
DESCRIPTION:
URL:https://www.maizevalley.com/calendar/fall-harvest-activities-closed/2021-10-01/
LOCATION:Maize Valley\, 6193 Edison St. NE (St. Rt. 619)\, Hartville\, OH\, 44632\, United States
CATEGORIES:Closed
ORGANIZER;CN="Maize Valley":MAILTO:info (@) maizevalley.com
GEO:40.9538889;-81.2817416
X-APPLE-STRUCTURED-LOCATION;VALUE=URI;X-ADDRESS=Maize Valley 6193 Edison St. NE (St. Rt. 619) Hartville OH 44632 United States;X-APPLE-RADIUS=500;X-TITLE=6193 Edison St. NE (St. Rt. 619):geo:-81.2817416,40.9538889
END:VEVENT
END:VCALENDAR