BEGIN:VCALENDAR
VERSION:2.0
PRODID:-//Maize Valley - ECPv6.15.17.1//NONSGML v1.0//EN
CALSCALE:GREGORIAN
METHOD:PUBLISH
X-WR-CALNAME:Maize Valley
X-ORIGINAL-URL:https://www.maizevalley.com
X-WR-CALDESC:Events for Maize Valley
REFRESH-INTERVAL;VALUE=DURATION:PT1H
X-Robots-Tag:noindex
X-PUBLISHED-TTL:PT1H
BEGIN:VTIMEZONE
TZID:America/New_York
BEGIN:DAYLIGHT
TZOFFSETFROM:-0500
TZOFFSETTO:-0400
TZNAME:EDT
DTSTART:20180311T070000
END:DAYLIGHT
BEGIN:STANDARD
TZOFFSETFROM:-0400
TZOFFSETTO:-0500
TZNAME:EST
DTSTART:20181104T060000
END:STANDARD
BEGIN:DAYLIGHT
TZOFFSETFROM:-0500
TZOFFSETTO:-0400
TZNAME:EDT
DTSTART:20190310T070000
END:DAYLIGHT
BEGIN:STANDARD
TZOFFSETFROM:-0400
TZOFFSETTO:-0500
TZNAME:EST
DTSTART:20191103T060000
END:STANDARD
BEGIN:DAYLIGHT
TZOFFSETFROM:-0500
TZOFFSETTO:-0400
TZNAME:EDT
DTSTART:20200308T070000
END:DAYLIGHT
BEGIN:STANDARD
TZOFFSETFROM:-0400
TZOFFSETTO:-0500
TZNAME:EST
DTSTART:20201101T060000
END:STANDARD
END:VTIMEZONE
BEGIN:VEVENT
DTSTART;TZID=America/New_York:20190608T100000
DTEND;TZID=America/New_York:20190608T160000
DTSTAMP:20260425T233920
CREATED:20190607T151708Z
LAST-MODIFIED:20190607T151708Z
UID:16511-1559988000-1560009600@www.maizevalley.com
SUMMARY:Heart & Home Marketplace
DESCRIPTION:June 8\, from 10 am – 4 pm\, wander the grounds of Maize Valley as you visit over 100 hand crafted artisan booths.  Shop local makers where you will find all things made with love in Ohio\, enjoy live local music\, and a bite to eat from local food trucks.  Food trucks include Barrio out of Cleveland and The Pierogi Lady.   There is no admission charge – sorry pets are not permitted. \nWhen you get tired of shopping (is that even possible?)\, be sure to stop inside Maize Valley Winery & Craft brewery for food\, wine and beer. \nAlso as part of the day’s activities\, Maize Valley will be opening the Lavender Field for Lavender picking and photo opportunities.  This is the first year for this field\, and we are pleasantly surprised at the number of blooms we have already.  Free wagon rides will take you to the field where you can cut a bundle of Lavender for $10 – potted plants will also be available for sale.
URL:https://www.maizevalley.com/calendar/heart-home-marketplace/
LOCATION:Maize Valley\, 6193 Edison St. NE (St. Rt. 619)\, Hartville\, OH\, 44632\, United States
ORGANIZER;CN="Maize Valley":MAILTO:info (@) maizevalley.com
GEO:40.9538889;-81.2817416
X-APPLE-STRUCTURED-LOCATION;VALUE=URI;X-ADDRESS=Maize Valley 6193 Edison St. NE (St. Rt. 619) Hartville OH 44632 United States;X-APPLE-RADIUS=500;X-TITLE=6193 Edison St. NE (St. Rt. 619):geo:-81.2817416,40.9538889
END:VEVENT
END:VCALENDAR