BEGIN:VCALENDAR
VERSION:2.0
PRODID:-//Maize Valley - ECPv6.15.17.1//NONSGML v1.0//EN
CALSCALE:GREGORIAN
METHOD:PUBLISH
X-WR-CALNAME:Maize Valley
X-ORIGINAL-URL:https://www.maizevalley.com
X-WR-CALDESC:Events for Maize Valley
REFRESH-INTERVAL;VALUE=DURATION:PT1H
X-Robots-Tag:noindex
X-PUBLISHED-TTL:PT1H
BEGIN:VTIMEZONE
TZID:America/New_York
BEGIN:DAYLIGHT
TZOFFSETFROM:-0500
TZOFFSETTO:-0400
TZNAME:EDT
DTSTART:20230312T070000
END:DAYLIGHT
BEGIN:STANDARD
TZOFFSETFROM:-0400
TZOFFSETTO:-0500
TZNAME:EST
DTSTART:20231105T060000
END:STANDARD
BEGIN:DAYLIGHT
TZOFFSETFROM:-0500
TZOFFSETTO:-0400
TZNAME:EDT
DTSTART:20240310T070000
END:DAYLIGHT
BEGIN:STANDARD
TZOFFSETFROM:-0400
TZOFFSETTO:-0500
TZNAME:EST
DTSTART:20241103T060000
END:STANDARD
BEGIN:DAYLIGHT
TZOFFSETFROM:-0500
TZOFFSETTO:-0400
TZNAME:EDT
DTSTART:20250309T070000
END:DAYLIGHT
BEGIN:STANDARD
TZOFFSETFROM:-0400
TZOFFSETTO:-0500
TZNAME:EST
DTSTART:20251102T060000
END:STANDARD
END:VTIMEZONE
BEGIN:VEVENT
DTSTART;TZID=America/New_York:20240914T130000
DTEND;TZID=America/New_York:20240914T170000
DTSTAMP:20260425T230538
CREATED:20240828T175615Z
LAST-MODIFIED:20240903T153042Z
UID:20655-1726318800-1726333200@www.maizevalley.com
SUMMARY:Fall Frenzy Decorating Day
DESCRIPTION:The pumpkin crop this year is looking bountiful – and that means savings for you! The picture below is from last year’s field . . . at the END of fall!  This year’s crops is going to be just as plentiful. Farmer Bill loves to grow pumpkins\, but he hates to see them go to waste. So we have created an early Fall Frenzy Decorating Day. Get all your fall decorations in one easy stop and make your house the best looking one on the block!!  Pumpkins\, strawbales\, corn shalks\, mums – we have it ALL! We are offering multiple packages of fall decorations bundled at a savings. You are sure to find one to suit your decorating desires! This event will NOT take place in the pumpkin patch and fall activities will NOT yet be open. Pumpkins will be pre-picked on wagons and will be available in all sizes – you choose the ones that best suite your needs. 								\n				\n					\n				\n		\n					\n				\n				\n																														\n				\n					\n				\n		\n				\n				\n									Package #1 – (I decorate a little) – $50 1 XL mum4 regular pumpkins – your choice1 bale straw3 pie pumpkins1 white pumpkinPackage #2 – (I’ve got a big house) $75 2 XL mums5 regular pumpkins – your choice1 bale straw3 pie pumpkins1 white pumpkin 1 corn shalkPackage #3 – (I LOVE Fall) $100 2 XL mums8 regular pumpkins – your choice1 bale straw5 pie pumpkins2 white pumpkins1 corn shalkPackage #4 – (I REALLY LOVE Fall) $150 4 XL mums12 regular pumpkins – your choice1 bale straw2 corn shalks10 pie pumpkins2 white pumpkins2 corn shalksPackage #5 – (Best Fall House on the block)  $200 4 XL mums20 regular pumpkins – your choice2 bales straw2 corn shalks10 pie pumpkins4 white pumpkins
URL:https://www.maizevalley.com/calendar/fall-frenzy-decorating-day/
LOCATION:Maize Valley\, 6193 Edison St. NE (St. Rt. 619)\, Hartville\, OH\, 44632\, United States
ORGANIZER;CN="Maize Valley":MAILTO:info (@) maizevalley.com
GEO:40.9538889;-81.2817416
X-APPLE-STRUCTURED-LOCATION;VALUE=URI;X-ADDRESS=Maize Valley 6193 Edison St. NE (St. Rt. 619) Hartville OH 44632 United States;X-APPLE-RADIUS=500;X-TITLE=6193 Edison St. NE (St. Rt. 619):geo:-81.2817416,40.9538889
END:VEVENT
END:VCALENDAR