BEGIN:VCALENDAR
VERSION:2.0
PRODID:-//Maize Valley - ECPv6.15.17.1//NONSGML v1.0//EN
CALSCALE:GREGORIAN
METHOD:PUBLISH
X-WR-CALNAME:Maize Valley
X-ORIGINAL-URL:https://www.maizevalley.com
X-WR-CALDESC:Events for Maize Valley
REFRESH-INTERVAL;VALUE=DURATION:PT1H
X-Robots-Tag:noindex
X-PUBLISHED-TTL:PT1H
BEGIN:VTIMEZONE
TZID:America/New_York
BEGIN:DAYLIGHT
TZOFFSETFROM:-0500
TZOFFSETTO:-0400
TZNAME:EDT
DTSTART:20220313T070000
END:DAYLIGHT
BEGIN:STANDARD
TZOFFSETFROM:-0400
TZOFFSETTO:-0500
TZNAME:EST
DTSTART:20221106T060000
END:STANDARD
BEGIN:DAYLIGHT
TZOFFSETFROM:-0500
TZOFFSETTO:-0400
TZNAME:EDT
DTSTART:20230312T070000
END:DAYLIGHT
BEGIN:STANDARD
TZOFFSETFROM:-0400
TZOFFSETTO:-0500
TZNAME:EST
DTSTART:20231105T060000
END:STANDARD
BEGIN:DAYLIGHT
TZOFFSETFROM:-0500
TZOFFSETTO:-0400
TZNAME:EDT
DTSTART:20240310T070000
END:DAYLIGHT
BEGIN:STANDARD
TZOFFSETFROM:-0400
TZOFFSETTO:-0500
TZNAME:EST
DTSTART:20241103T060000
END:STANDARD
END:VTIMEZONE
BEGIN:VEVENT
DTSTART;TZID=America/New_York:20231206T180000
DTEND;TZID=America/New_York:20231206T200000
DTSTAMP:20260421T130449
CREATED:20230722T003747Z
LAST-MODIFIED:20231129T201938Z
UID:18936-1701885600-1701892800@www.maizevalley.com
SUMMARY:Extreme Music Bingo
DESCRIPTION:[et_pb_section fb_built=”1″ _builder_version=”4.23.1″ _module_preset=”default” global_colors_info=”{}”][et_pb_row column_structure=”3_5\,2_5″ _builder_version=”4.23.1″ _module_preset=”default” global_colors_info=”{}”][et_pb_column type=”3_5″ _builder_version=”4.21.0″ _module_preset=”default” global_colors_info=”{}”][et_pb_text _builder_version=”4.23.1″ _module_preset=”default” hover_enabled=”0″ global_colors_info=”{}” sticky_enabled=”0″] \nExtreme Music Bingo\nDecember 6th Themes – Everything EMO\, Boy Bands\, Best of 2020 \nThe latest in fun\, only at Maize Valley. FREE to play. Everyone gets a Bingo card\, we play 30 second clips of a song\, if you have that song on your card\, you mark it. First one to yell BINGO\, gets a prize. Every Wednesday and Friday evening from 6 – 8 pm. \nWe play 3 rounds each night\, and there are multiple ways to win in each round. The Bingo host will let you know if you need to have a straight row\, diagonal\, 4 corners\, or something different.  Each round has a theme such as “modern pop”\, “party starter”\, “90’s party mix”\, “country rock” and so much more. \nBring your family\, your friends\, your spouse\, or just yourself – sing alongs encouraged and everyone has FUN!! \n[/et_pb_text][/et_pb_column][et_pb_column type=”2_5″ _builder_version=”4.21.0″ _module_preset=”default” global_colors_info=”{}”][et_pb_sidebar _builder_version=”4.22.1″ _module_preset=”default” global_colors_info=”{}”][/et_pb_sidebar][/et_pb_column][/et_pb_row][et_pb_row _builder_version=”4.22.1″ _module_preset=”default” global_colors_info=”{}”][et_pb_column type=”4_4″ _builder_version=”4.22.1″ _module_preset=”default” global_colors_info=”{}”][et_pb_text _builder_version=”4.22.1″ _module_preset=”default” global_colors_info=”{}”]Extreme music bingo is a FREE to play event held at Maize Valley every Wednesday and Friday evenings from 6 – 8 pm. We play 30 song clips\, if you have that song on your bingo card\, mark the square. First one to yell “BINGO” gets a prize.  Three games are played every night with multiple chances to win each game.  \nEach game features a different musical genre such as classic rock\, boy bands\, country\, Disney theme songs and more. Great to play with a date\, a group of friends\, or your family. [/et_pb_text][/et_pb_column][/et_pb_row][/et_pb_section][et_pb_section fb_built=”1″ fullwidth=”on” _builder_version=”4.22.1″ _module_preset=”default” global_colors_info=”{}”][/et_pb_section]
URL:https://www.maizevalley.com/calendar/extreme-music-bingo-2023-12-06/
LOCATION:Maize Valley\, 6193 Edison St. NE (St. Rt. 619)\, Hartville\, OH\, 44632\, United States
CATEGORIES:Activity,Music
ORGANIZER;CN="Maize Valley":MAILTO:info (@) maizevalley.com
GEO:40.9538889;-81.2817416
X-APPLE-STRUCTURED-LOCATION;VALUE=URI;X-ADDRESS=Maize Valley 6193 Edison St. NE (St. Rt. 619) Hartville OH 44632 United States;X-APPLE-RADIUS=500;X-TITLE=6193 Edison St. NE (St. Rt. 619):geo:-81.2817416,40.9538889
END:VEVENT
END:VCALENDAR