BEGIN:VCALENDAR
VERSION:2.0
PRODID:-//Maize Valley - ECPv6.15.17.1//NONSGML v1.0//EN
CALSCALE:GREGORIAN
METHOD:PUBLISH
X-WR-CALNAME:Maize Valley
X-ORIGINAL-URL:https://www.maizevalley.com
X-WR-CALDESC:Events for Maize Valley
REFRESH-INTERVAL;VALUE=DURATION:PT1H
X-Robots-Tag:noindex
X-PUBLISHED-TTL:PT1H
BEGIN:VTIMEZONE
TZID:America/New_York
BEGIN:DAYLIGHT
TZOFFSETFROM:-0500
TZOFFSETTO:-0400
TZNAME:EDT
DTSTART:20230312T070000
END:DAYLIGHT
BEGIN:STANDARD
TZOFFSETFROM:-0400
TZOFFSETTO:-0500
TZNAME:EST
DTSTART:20231105T060000
END:STANDARD
BEGIN:DAYLIGHT
TZOFFSETFROM:-0500
TZOFFSETTO:-0400
TZNAME:EDT
DTSTART:20240310T070000
END:DAYLIGHT
BEGIN:STANDARD
TZOFFSETFROM:-0400
TZOFFSETTO:-0500
TZNAME:EST
DTSTART:20241103T060000
END:STANDARD
BEGIN:DAYLIGHT
TZOFFSETFROM:-0500
TZOFFSETTO:-0400
TZNAME:EDT
DTSTART:20250309T070000
END:DAYLIGHT
BEGIN:STANDARD
TZOFFSETFROM:-0400
TZOFFSETTO:-0500
TZNAME:EST
DTSTART:20251102T060000
END:STANDARD
END:VTIMEZONE
BEGIN:VEVENT
DTSTART;TZID=America/New_York:20241019T180000
DTEND;TZID=America/New_York:20241019T210000
DTSTAMP:20260421T054505
CREATED:20241007T171812Z
LAST-MODIFIED:20241007T173133Z
UID:20776-1729360800-1729371600@www.maizevalley.com
SUMMARY:Carved & Crafted
DESCRIPTION:Tickets\n					\n					\n				\n								\n				\n				\n				\n									  This adults only\, ticketed event will take place in our hilltop pavilion inside of our fall activities area. After you check in you will take a wagon ride to the pumpkin patch to pick your pumpkin.  Once you have your perfect pumpkin\, you have until 8:30 to carve it. Judging will take place at 8:30 pm and prizes will be awarded in the following categories: Best Jack-O-LanternMost Creative/ArtisticScariestCarving tools will be provided – no outside carving tools are permitted Included with each ticket: Wagon ride to the pumpkin patch (rides are from 6 – 7 pm)1 pumpkin of your choice from the patch1 carving knife & scoop (outside tools are NOT permitted)A bucket (for the pumpkin guts)1 craft beverage of your choice1 take home Jack-O-Lantern cupHot dog buffet (buffet open from 7 – 8 pm)S’mores fixins (available from 7 – 9 pm)CampfireThis event takes place on Saturday\, October 19th\, from 6 – 9 pm. This is an all weather event – please dress accordingly.
URL:https://www.maizevalley.com/calendar/carved-crafted/
LOCATION:Maize Valley\, 6193 Edison St. NE (St. Rt. 619)\, Hartville\, OH\, 44632\, United States
ORGANIZER;CN="Maize Valley":MAILTO:info (@) maizevalley.com
GEO:40.9538889;-81.2817416
X-APPLE-STRUCTURED-LOCATION;VALUE=URI;X-ADDRESS=Maize Valley 6193 Edison St. NE (St. Rt. 619) Hartville OH 44632 United States;X-APPLE-RADIUS=500;X-TITLE=6193 Edison St. NE (St. Rt. 619):geo:-81.2817416,40.9538889
END:VEVENT
END:VCALENDAR